Package: MoonlightR Version: 1.35.0 Command: /home/biocbuild/R/R/bin/R CMD build --keep-empty-dirs --no-resave-data MoonlightR StartedAt: 2025-10-17 02:52:13 -0000 (Fri, 17 Oct 2025) EndedAt: 2025-10-17 02:54:45 -0000 (Fri, 17 Oct 2025) EllapsedTime: 152.0 seconds RetCode: 0 Status: OK PackageFile: MoonlightR_1.35.0.tar.gz PackageFileSize: 11.61 MiB