Package: MoonlightR Version: 1.37.0 Command: /home/biocbuild/bbs-3.23-bioc/R/bin/R CMD INSTALL MoonlightR StartedAt: 2025-11-04 15:52:13 -0500 (Tue, 04 Nov 2025) EndedAt: 2025-11-04 15:53:04 -0500 (Tue, 04 Nov 2025) EllapsedTime: 51.3 seconds RetCode: 0 Status: OK