Package: MoonlightR Version: 1.37.0 Command: /home/biocbuild/bbs-3.23-bioc/R/bin/R CMD build --keep-empty-dirs --no-resave-data MoonlightR StartedAt: 2025-11-04 18:41:59 -0500 (Tue, 04 Nov 2025) EndedAt: 2025-11-04 18:43:59 -0500 (Tue, 04 Nov 2025) EllapsedTime: 120.1 seconds RetCode: 0 Status: OK PackageFile: MoonlightR_1.37.0.tar.gz PackageFileSize: 14.75 MiB