Package: MoonlightR Version: 1.35.0 Command: /Library/Frameworks/R.framework/Resources/bin/R CMD INSTALL MoonlightR StartedAt: 2025-10-07 15:48:55 -0400 (Tue, 07 Oct 2025) EndedAt: 2025-10-07 15:50:22 -0400 (Tue, 07 Oct 2025) EllapsedTime: 87.8 seconds RetCode: 0 Status: OK