Package: MoonlightR Version: 1.37.0 Maintainer: Matteo Tiberti MaintainerEmail: tiberti at cancer.dk git_url: https://git.bioconductor.org/packages/MoonlightR git_branch: devel git_last_commit: 9303ed6 git_last_commit_date: 2025-10-29 10:35:02 -0500 (Wed, 29 Oct 2025)