Package: Moonlight2R Version: 1.9.0 Command: /home/biocbuild/bbs-3.23-bioc/R/bin/R CMD INSTALL Moonlight2R StartedAt: 2025-11-20 15:48:38 -0500 (Thu, 20 Nov 2025) EndedAt: 2025-11-20 15:49:34 -0500 (Thu, 20 Nov 2025) EllapsedTime: 56.6 seconds RetCode: 0 Status: OK