Package: Moonlight2R Version: 1.9.0 Command: /home/biocbuild/bbs-3.23-bioc/R/bin/R CMD build --keep-empty-dirs --no-resave-data Moonlight2R StartedAt: 2025-11-20 18:47:15 -0500 (Thu, 20 Nov 2025) EndedAt: 2025-11-20 18:53:10 -0500 (Thu, 20 Nov 2025) EllapsedTime: 354.3 seconds RetCode: 0 Status: OK PackageFile: Moonlight2R_1.9.0.tar.gz PackageFileSize: 4.944 MiB