Package: Moonlight2R Version: 1.7.4 Command: /Library/Frameworks/R.framework/Resources/bin/R CMD INSTALL Moonlight2R StartedAt: 2025-10-15 15:44:49 -0400 (Wed, 15 Oct 2025) EndedAt: 2025-10-15 15:46:06 -0400 (Wed, 15 Oct 2025) EllapsedTime: 77.2 seconds RetCode: 0 Status: OK