Package: Moonlight2R Version: 1.7.4 Command: /Library/Frameworks/R.framework/Resources/bin/R CMD build --keep-empty-dirs --no-resave-data Moonlight2R StartedAt: 2025-10-16 18:38:18 -0400 (Thu, 16 Oct 2025) EndedAt: 2025-10-16 18:51:22 -0400 (Thu, 16 Oct 2025) EllapsedTime: 784.3 seconds RetCode: 0 Status: OK PackageFile: Moonlight2R_1.7.4.tar.gz PackageFileSize: 4.95 MiB