Package: Moonlight2R Version: 1.7.4 Command: rm -rf Moonlight2R.buildbin-libdir && mkdir Moonlight2R.buildbin-libdir && /Users/biocbuild/BBS/utils/build-universal.sh Moonlight2R_1.7.4.tar.gz /Library/Frameworks/R.framework/Resources/bin/R Moonlight2R.buildbin-libdir StartedAt: 2025-10-18 03:08:45 -0400 (Sat, 18 Oct 2025) EndedAt: 2025-10-18 03:10:07 -0400 (Sat, 18 Oct 2025) EllapsedTime: 81.9 seconds RetCode: 0 Status: OK PackageFile: Moonlight2R_1.7.4.tgz PackageFileSize: 4.683 MiB