Package: MoleculeExperiment Version: 1.9.0 Command: /home/biocbuild/R/R/bin/R CMD INSTALL MoleculeExperiment StartedAt: 2025-10-20 20:36:46 -0000 (Mon, 20 Oct 2025) EndedAt: 2025-10-20 20:37:45 -0000 (Mon, 20 Oct 2025) EllapsedTime: 58.3 seconds RetCode: 0 Status: OK