Package: MoleculeExperiment Version: 1.9.0 Command: /home/biocbuild/R/R/bin/R CMD build --keep-empty-dirs --no-resave-data MoleculeExperiment StartedAt: 2025-10-21 01:24:02 -0000 (Tue, 21 Oct 2025) EndedAt: 2025-10-21 01:26:28 -0000 (Tue, 21 Oct 2025) EllapsedTime: 146.0 seconds RetCode: 0 Status: OK PackageFile: MoleculeExperiment_1.9.0.tar.gz PackageFileSize: 13.46 MiB