Package: MoleculeExperiment Version: 1.11.0 Command: /home/biocbuild/bbs-3.23-bioc/R/bin/R CMD INSTALL MoleculeExperiment StartedAt: 2025-11-03 15:22:57 -0500 (Mon, 03 Nov 2025) EndedAt: 2025-11-03 15:23:39 -0500 (Mon, 03 Nov 2025) EllapsedTime: 42.0 seconds RetCode: 0 Status: OK