Package: MoleculeExperiment Version: 1.11.0 Command: /home/biocbuild/bbs-3.23-bioc/R/bin/R CMD build --keep-empty-dirs --no-resave-data MoleculeExperiment StartedAt: 2025-11-02 18:42:17 -0500 (Sun, 02 Nov 2025) EndedAt: 2025-11-02 18:44:08 -0500 (Sun, 02 Nov 2025) EllapsedTime: 111.1 seconds RetCode: 0 Status: OK PackageFile: MoleculeExperiment_1.11.0.tar.gz PackageFileSize: 15.59 MiB