Package: MoleculeExperiment Version: 1.9.0 Command: /Library/Frameworks/R.framework/Resources/bin/R CMD INSTALL MoleculeExperiment StartedAt: 2025-10-03 15:24:35 -0400 (Fri, 03 Oct 2025) EndedAt: 2025-10-03 15:25:32 -0400 (Fri, 03 Oct 2025) EllapsedTime: 57.6 seconds RetCode: 0 Status: OK