Package: MoleculeExperiment Version: 1.9.0 Command: /Library/Frameworks/R.framework/Resources/bin/R CMD build --keep-empty-dirs --no-resave-data MoleculeExperiment StartedAt: 2025-10-03 17:56:22 -0400 (Fri, 03 Oct 2025) EndedAt: 2025-10-03 17:59:18 -0400 (Fri, 03 Oct 2025) EllapsedTime: 175.4 seconds RetCode: 0 Status: OK PackageFile: MoleculeExperiment_1.9.0.tar.gz PackageFileSize: 15.85 MiB