Package: Modstrings Version: 1.25.0 Command: F:\biocbuild\bbs-3.22-bioc\R\bin\R.exe CMD check --no-multiarch --install=check:Modstrings.install-out.txt --library=F:\biocbuild\bbs-3.22-bioc\R\library --no-vignettes --timings Modstrings_1.25.0.tar.gz StartedAt: 2025-08-15 05:20:38 -0400 (Fri, 15 Aug 2025) EndedAt: 2025-08-15 05:23:25 -0400 (Fri, 15 Aug 2025) EllapsedTime: 166.5 seconds RetCode: 0 Status: OK CheckDir: Modstrings.Rcheck Warnings: 0