Package: Modstrings Version: 1.27.0 Command: /home/biocbuild/bbs-3.23-bioc/R/bin/R CMD check --install=check:Modstrings.install-out.txt --library=/home/biocbuild/bbs-3.23-bioc/R/site-library --timings Modstrings_1.27.0.tar.gz StartedAt: 2025-11-04 01:08:39 -0500 (Tue, 04 Nov 2025) EndedAt: 2025-11-04 01:11:04 -0500 (Tue, 04 Nov 2025) EllapsedTime: 145.2 seconds RetCode: 0 Status: OK CheckDir: Modstrings.Rcheck Warnings: 0