Package: Modstrings Version: 1.27.0 Command: /home/biocbuild/bbs-3.23-bioc/R/bin/R CMD build --keep-empty-dirs --no-resave-data Modstrings StartedAt: 2025-11-03 18:38:41 -0500 (Mon, 03 Nov 2025) EndedAt: 2025-11-03 18:39:14 -0500 (Mon, 03 Nov 2025) EllapsedTime: 33.1 seconds RetCode: 0 Status: OK PackageFile: Modstrings_1.27.0.tar.gz PackageFileSize: 823.9 KiB