Package: ModCon Version: 1.17.0 Command: /home/biocbuild/R/R/bin/R CMD check --install=check:ModCon.install-out.txt --library=/home/biocbuild/R/R/site-library --no-vignettes --timings ModCon_1.17.0.tar.gz StartedAt: 2025-09-30 10:20:06 -0000 (Tue, 30 Sep 2025) EndedAt: 2025-09-30 10:25:19 -0000 (Tue, 30 Sep 2025) EllapsedTime: 313.4 seconds RetCode: 0 Status: OK CheckDir: ModCon.Rcheck Warnings: 0