Package: MinimumDistance Version: 1.53.1 Command: /home/biocbuild/R/R/bin/R CMD INSTALL MinimumDistance StartedAt: 2025-10-23 20:59:25 -0000 (Thu, 23 Oct 2025) EndedAt: 2025-10-23 21:00:27 -0000 (Thu, 23 Oct 2025) EllapsedTime: 62.3 seconds RetCode: 0 Status: OK