Package: MinimumDistance Version: 1.53.1 Command: /home/biocbuild/R/R/bin/R CMD build --keep-empty-dirs --no-resave-data MinimumDistance StartedAt: 2025-10-21 01:16:07 -0000 (Tue, 21 Oct 2025) EndedAt: 2025-10-21 01:17:43 -0000 (Tue, 21 Oct 2025) EllapsedTime: 96.0 seconds RetCode: 0 Status: OK PackageFile: MinimumDistance_1.53.1.tar.gz PackageFileSize: 2.538 MiB