Package: MinimumDistance Version: 1.55.0 Command: /home/biocbuild/bbs-3.23-bioc/R/bin/R CMD INSTALL MinimumDistance StartedAt: 2025-11-04 15:34:12 -0500 (Tue, 04 Nov 2025) EndedAt: 2025-11-04 15:35:02 -0500 (Tue, 04 Nov 2025) EllapsedTime: 49.9 seconds RetCode: 0 Status: OK