Package: MineICA Version: 1.49.0 Command: /home/biocbuild/bbs-3.22-bioc/R/bin/R CMD INSTALL MineICA StartedAt: 2025-10-14 16:01:38 -0400 (Tue, 14 Oct 2025) EndedAt: 2025-10-14 16:02:13 -0400 (Tue, 14 Oct 2025) EllapsedTime: 35.4 seconds RetCode: 0 Status: OK