Package: MineICA Version: 1.49.0 Command: /home/biocbuild/bbs-3.22-bioc/R/bin/R CMD build --keep-empty-dirs --no-resave-data --md5 MineICA StartedAt: 2025-10-13 18:43:14 -0400 (Mon, 13 Oct 2025) EndedAt: 2025-10-13 18:44:50 -0400 (Mon, 13 Oct 2025) EllapsedTime: 95.1 seconds RetCode: 0 Status: OK PackageFile: MineICA_1.49.0.tar.gz PackageFileSize: 1.436 MiB