Package: MicrobiotaProcess Version: 1.21.2 Command: /home/biocbuild/R/R/bin/R CMD INSTALL MicrobiotaProcess StartedAt: 2025-10-13 20:53:09 -0000 (Mon, 13 Oct 2025) EndedAt: 2025-10-13 20:54:37 -0000 (Mon, 13 Oct 2025) EllapsedTime: 88.1 seconds RetCode: 0 Status: OK