Package: MicrobiotaProcess Version: 1.21.2 Command: /home/biocbuild/R/R/bin/R CMD build --keep-empty-dirs --no-resave-data MicrobiotaProcess StartedAt: 2025-10-14 01:45:11 -0000 (Tue, 14 Oct 2025) EndedAt: 2025-10-14 01:49:06 -0000 (Tue, 14 Oct 2025) EllapsedTime: 235.1 seconds RetCode: 0 Status: OK PackageFile: MicrobiotaProcess_1.21.2.tar.gz PackageFileSize: 3.761 MiB