Package: MicrobiotaProcess Version: 1.21.0 Command: chmod a+r MicrobiotaProcess -R && F:\biocbuild\bbs-3.22-bioc\R\bin\R.exe CMD build --keep-empty-dirs --no-resave-data MicrobiotaProcess StartedAt: 2025-08-14 21:28:46 -0400 (Thu, 14 Aug 2025) EndedAt: 2025-08-14 21:34:36 -0400 (Thu, 14 Aug 2025) EllapsedTime: 350.0 seconds RetCode: 0 Status: OK PackageFile: MicrobiotaProcess_1.21.0.tar.gz PackageFileSize: 3.624 MiB