Package: MicrobiotaProcess Version: 1.21.0 Command: rm -rf MicrobiotaProcess.buildbin-libdir && mkdir MicrobiotaProcess.buildbin-libdir && F:\biocbuild\bbs-3.22-bioc\R\bin\R.exe CMD INSTALL --build --library=MicrobiotaProcess.buildbin-libdir MicrobiotaProcess_1.21.0.tar.gz StartedAt: 2025-08-15 10:42:00 -0400 (Fri, 15 Aug 2025) EndedAt: 2025-08-15 10:53:22 -0400 (Fri, 15 Aug 2025) EllapsedTime: 681.1 seconds RetCode: 0 Status: OK PackageFile: MicrobiotaProcess_1.21.0.zip PackageFileSize: 4.389 MiB