Package: MicrobiotaProcess Version: 1.23.0 Command: /home/biocbuild/bbs-3.23-bioc/R/bin/R CMD INSTALL MicrobiotaProcess StartedAt: 2025-11-21 15:18:45 -0500 (Fri, 21 Nov 2025) EndedAt: 2025-11-21 15:19:47 -0500 (Fri, 21 Nov 2025) EllapsedTime: 61.2 seconds RetCode: 0 Status: OK