Package: MicrobiotaProcess Version: 1.23.0 Command: /home/biocbuild/bbs-3.23-bioc/R/bin/R CMD build --keep-empty-dirs --no-resave-data MicrobiotaProcess StartedAt: 2025-11-21 18:41:34 -0500 (Fri, 21 Nov 2025) EndedAt: 2025-11-21 18:44:12 -0500 (Fri, 21 Nov 2025) EllapsedTime: 158.1 seconds RetCode: 0 Status: OK PackageFile: MicrobiotaProcess_1.23.0.tar.gz PackageFileSize: 4.835 MiB