Package: MicrobiomeProfiler Version: 1.15.0 Command: /home/biocbuild/R/R/bin/R CMD INSTALL MicrobiomeProfiler StartedAt: 2025-10-13 21:38:02 -0000 (Mon, 13 Oct 2025) EndedAt: 2025-10-13 21:38:35 -0000 (Mon, 13 Oct 2025) EllapsedTime: 32.8 seconds RetCode: 0 Status: OK