Package: MicrobiomeProfiler Version: 1.17.0 Command: /home/biocbuild/bbs-3.23-bioc/R/bin/R CMD check --install=check:MicrobiomeProfiler.install-out.txt --library=/home/biocbuild/bbs-3.23-bioc/R/site-library --timings MicrobiomeProfiler_1.17.0.tar.gz StartedAt: 2025-11-17 01:28:08 -0500 (Mon, 17 Nov 2025) EndedAt: 2025-11-17 01:31:16 -0500 (Mon, 17 Nov 2025) EllapsedTime: 188.2 seconds RetCode: 0 Status: OK CheckDir: MicrobiomeProfiler.Rcheck Warnings: 0