Package: MicrobiomeProfiler Version: 1.15.0 Command: /Library/Frameworks/R.framework/Resources/bin/R CMD INSTALL MicrobiomeProfiler StartedAt: 2025-10-15 15:25:53 -0400 (Wed, 15 Oct 2025) EndedAt: 2025-10-15 15:26:03 -0400 (Wed, 15 Oct 2025) EllapsedTime: 9.6 seconds RetCode: 0 Status: OK