Package: MicrobiomeProfiler Version: 1.15.0 Command: /Library/Frameworks/R.framework/Resources/bin/R CMD build --keep-empty-dirs --no-resave-data MicrobiomeProfiler StartedAt: 2025-10-15 17:03:27 -0400 (Wed, 15 Oct 2025) EndedAt: 2025-10-15 17:03:39 -0400 (Wed, 15 Oct 2025) EllapsedTime: 12.1 seconds RetCode: 0 Status: OK PackageFile: MicrobiomeProfiler_1.15.0.tar.gz PackageFileSize: 1.051 MiB