Package: MiRaGE Version: 1.53.0 Command: /home/biocbuild/bbs-3.23-bioc/R/bin/R CMD INSTALL MiRaGE StartedAt: 2025-11-20 15:58:14 -0500 (Thu, 20 Nov 2025) EndedAt: 2025-11-20 15:58:28 -0500 (Thu, 20 Nov 2025) EllapsedTime: 13.2 seconds RetCode: 0 Status: OK