Package: MiRaGE Version: 1.53.0 Command: /home/biocbuild/bbs-3.23-bioc/R/bin/R CMD build --keep-empty-dirs --no-resave-data MiRaGE StartedAt: 2025-11-20 18:42:04 -0500 (Thu, 20 Nov 2025) EndedAt: 2025-11-20 18:43:03 -0500 (Thu, 20 Nov 2025) EllapsedTime: 59.1 seconds RetCode: 0 Status: OK PackageFile: MiRaGE_1.53.0.tar.gz PackageFileSize: 1.313 MiB