Package: MiRaGE Version: 1.53.0 Command: /Library/Frameworks/R.framework/Resources/bin/R CMD INSTALL MiRaGE StartedAt: 2025-11-21 15:51:48 -0500 (Fri, 21 Nov 2025) EndedAt: 2025-11-21 15:52:07 -0500 (Fri, 21 Nov 2025) EllapsedTime: 18.4 seconds RetCode: 0 Status: OK