Package: MiRaGE Version: 1.53.0 Command: /Library/Frameworks/R.framework/Resources/bin/R CMD build --keep-empty-dirs --no-resave-data MiRaGE StartedAt: 2025-11-20 17:44:37 -0500 (Thu, 20 Nov 2025) EndedAt: 2025-11-20 17:45:11 -0500 (Thu, 20 Nov 2025) EllapsedTime: 34.3 seconds RetCode: 1 Status: ERROR PackageFile: None PackageFileSize: NA