Package: MiRaGE Version: 1.51.0 Command: /Library/Frameworks/R.framework/Resources/bin/R CMD build --keep-empty-dirs --no-resave-data MiRaGE StartedAt: 2025-10-24 17:03:11 -0400 (Fri, 24 Oct 2025) EndedAt: 2025-10-24 17:03:39 -0400 (Fri, 24 Oct 2025) EllapsedTime: 27.3 seconds RetCode: 0 Status: OK PackageFile: MiRaGE_1.51.0.tar.gz PackageFileSize: 1.313 MiB