Package: MiRaGE Version: 1.51.0 Command: rm -rf MiRaGE.buildbin-libdir && mkdir MiRaGE.buildbin-libdir && /Users/biocbuild/BBS/utils/build-universal.sh MiRaGE_1.51.0.tar.gz /Library/Frameworks/R.framework/Resources/bin/R MiRaGE.buildbin-libdir StartedAt: 2025-10-24 23:10:06 -0400 (Fri, 24 Oct 2025) EndedAt: 2025-10-24 23:10:12 -0400 (Fri, 24 Oct 2025) EllapsedTime: 6.1 seconds RetCode: 0 Status: OK PackageFile: MiRaGE_1.51.0.tgz PackageFileSize: 1.353 MiB