Package: MiPP Version: 1.83.0 Command: /home/biocbuild/bbs-3.23-bioc/R/bin/R CMD build --keep-empty-dirs --no-resave-data MiPP StartedAt: 2025-11-20 18:41:21 -0500 (Thu, 20 Nov 2025) EndedAt: 2025-11-20 18:41:27 -0500 (Thu, 20 Nov 2025) EllapsedTime: 6.0 seconds RetCode: 0 Status: OK PackageFile: MiPP_1.83.0.tar.gz PackageFileSize: 410.1 KiB