Package: MiPP Version: 1.81.0 Command: /Library/Frameworks/R.framework/Resources/bin/R CMD INSTALL MiPP StartedAt: 2025-10-23 15:15:14 -0400 (Thu, 23 Oct 2025) EndedAt: 2025-10-23 15:15:30 -0400 (Thu, 23 Oct 2025) EllapsedTime: 15.4 seconds RetCode: 0 Status: OK