Package: MiPP Version: 1.81.0 Command: rm -rf MiPP.buildbin-libdir && mkdir MiPP.buildbin-libdir && /Users/biocbuild/BBS/utils/build-universal.sh MiPP_1.81.0.tar.gz /Library/Frameworks/R.framework/Resources/bin/R MiPP.buildbin-libdir StartedAt: 2025-10-24 01:44:07 -0400 (Fri, 24 Oct 2025) EndedAt: 2025-10-24 01:44:14 -0400 (Fri, 24 Oct 2025) EllapsedTime: 6.8 seconds RetCode: 0 Status: OK PackageFile: MiPP_1.81.0.tgz PackageFileSize: 467.5 KiB