Package: MiPP Version: 1.81.0 Command: /Library/Frameworks/R.framework/Resources/bin/R CMD INSTALL MiPP StartedAt: 2025-10-03 15:07:21 -0400 (Fri, 03 Oct 2025) EndedAt: 2025-10-03 15:07:23 -0400 (Fri, 03 Oct 2025) EllapsedTime: 2.1 seconds RetCode: 0 Status: OK