Package: MiChip Version: 1.65.0 Command: /home/biocbuild/bbs-3.23-bioc/R/bin/R CMD build --keep-empty-dirs --no-resave-data MiChip StartedAt: 2025-11-20 18:39:13 -0500 (Thu, 20 Nov 2025) EndedAt: 2025-11-20 18:39:23 -0500 (Thu, 20 Nov 2025) EllapsedTime: 10.0 seconds RetCode: 0 Status: OK PackageFile: MiChip_1.65.0.tar.gz PackageFileSize: 650.8 KiB