Package: MiChip Version: 1.63.0 Command: /Library/Frameworks/R.framework/Resources/bin/R CMD INSTALL MiChip StartedAt: 2025-10-20 15:14:08 -0400 (Mon, 20 Oct 2025) EndedAt: 2025-10-20 15:14:14 -0400 (Mon, 20 Oct 2025) EllapsedTime: 6.0 seconds RetCode: 0 Status: OK