Package: MiChip Version: 1.63.0 Command: /Library/Frameworks/R.framework/Resources/bin/R CMD build --keep-empty-dirs --no-resave-data MiChip StartedAt: 2025-10-20 18:03:53 -0400 (Mon, 20 Oct 2025) EndedAt: 2025-10-20 18:04:18 -0400 (Mon, 20 Oct 2025) EllapsedTime: 25.2 seconds RetCode: 0 Status: OK PackageFile: MiChip_1.63.0.tar.gz PackageFileSize: 668.9 KiB