Package: MiChip Version: 1.63.0 Command: rm -rf MiChip.buildbin-libdir && mkdir MiChip.buildbin-libdir && /Users/biocbuild/BBS/utils/build-universal.sh MiChip_1.63.0.tar.gz /Library/Frameworks/R.framework/Resources/bin/R MiChip.buildbin-libdir StartedAt: 2025-10-22 02:34:05 -0400 (Wed, 22 Oct 2025) EndedAt: 2025-10-22 02:34:12 -0400 (Wed, 22 Oct 2025) EllapsedTime: 6.9 seconds RetCode: 0 Status: OK PackageFile: MiChip_1.63.0.tgz PackageFileSize: 719.3 KiB