Package: MiChip Version: 1.63.0 Command: /Library/Frameworks/R.framework/Resources/bin/R CMD INSTALL MiChip StartedAt: 2025-10-03 15:07:04 -0400 (Fri, 03 Oct 2025) EndedAt: 2025-10-03 15:07:06 -0400 (Fri, 03 Oct 2025) EllapsedTime: 2.2 seconds RetCode: 0 Status: OK